BEGIN:VCALENDAR
VERSION:2.0
PRODID:-//Second Chance Center - ECPv6.15.14//NONSGML v1.0//EN
CALSCALE:GREGORIAN
METHOD:PUBLISH
X-WR-CALNAME:Second Chance Center
X-ORIGINAL-URL:https://scccolorado.org
X-WR-CALDESC:Events for Second Chance Center
REFRESH-INTERVAL;VALUE=DURATION:PT1H
X-Robots-Tag:noindex
X-PUBLISHED-TTL:PT1H
BEGIN:VTIMEZONE
TZID:UTC
BEGIN:STANDARD
TZOFFSETFROM:+0000
TZOFFSETTO:+0000
TZNAME:UTC
DTSTART:20250101T000000
END:STANDARD
END:VTIMEZONE
BEGIN:VEVENT
DTSTART;TZID=UTC:20260421T100000
DTEND;TZID=UTC:20260421T110000
DTSTAMP:20260421T104606
CREATED:20260202T225718Z
LAST-MODIFIED:20260202T225718Z
UID:4889-1776765600-1776769200@scccolorado.org
SUMMARY:Mock Interviews
DESCRIPTION:The interview is your final hurdle in the quest to land your dream job\, and preparation is essential. Take control of your next opportunity with the right tools and mindset. This workshop is designed to help you prepare\, practice\, and present with confidence! \nHow to Register \nEmail Cherie at Kyle@scccolorado.org
URL:https://scccolorado.org/calendar/mock-interviews-104/
LOCATION:SCC Potomac\, 224 Potomac St\, Aurora\, Colorado\, 80011\, United States
CATEGORIES:Workforce Programs
END:VEVENT
BEGIN:VEVENT
DTSTART;TZID=UTC:20260421T130000
DTEND;TZID=UTC:20260421T140000
DTSTAMP:20260421T104606
CREATED:20260202T225742Z
LAST-MODIFIED:20260202T225742Z
UID:4890-1776776400-1776780000@scccolorado.org
SUMMARY:Computer Basics
DESCRIPTION:Are you looking to build a brighter future?  \nJoin our Computer Basics workshop and gain the confidence to navigate the digital world. This course is designed to help you master essential computer skills that are vital for personal and professional success. \n\n\nHow to Register: \n\n\n\nEmail Cherie at Cherie@scccolorado.org \n\n\n\n 
URL:https://scccolorado.org/calendar/computer-basics-107/
LOCATION:SCC Potomac\, 224 Potomac St\, Aurora\, Colorado\, 80011\, United States
CATEGORIES:Workforce Programs
END:VEVENT
END:VCALENDAR