BEGIN:VCALENDAR
VERSION:2.0
PRODID:-//Second Chance Center - ECPv6.15.14//NONSGML v1.0//EN
CALSCALE:GREGORIAN
METHOD:PUBLISH
X-WR-CALNAME:Second Chance Center
X-ORIGINAL-URL:https://scccolorado.org
X-WR-CALDESC:Events for Second Chance Center
REFRESH-INTERVAL;VALUE=DURATION:PT1H
X-Robots-Tag:noindex
X-PUBLISHED-TTL:PT1H
BEGIN:VTIMEZONE
TZID:UTC
BEGIN:STANDARD
TZOFFSETFROM:+0000
TZOFFSETTO:+0000
TZNAME:UTC
DTSTART:20250101T000000
END:STANDARD
END:VTIMEZONE
BEGIN:VEVENT
DTSTART;TZID=UTC:20260423T103000
DTEND;TZID=UTC:20260423T120000
DTSTAMP:20260423T020241
CREATED:20260325T212911Z
LAST-MODIFIED:20260325T212911Z
UID:5049-1776940200-1776945600@scccolorado.org
SUMMARY:Computer Basics Part 2
DESCRIPTION:Are you looking to build a brighter future?  \nJoin our Computer Basics workshop and gain the confidence to navigate the digital world. This course is designed to help you master essential computer skills that are vital for personal and professional success. \n\n\nHow to Register: \n\n\n\nEmail Cherie at Cherie@scccolorado.org \n\n\n\n 
URL:https://scccolorado.org/calendar/computer-basics-part-2-2/
LOCATION:SCC Potomac\, 224 Potomac St\, Aurora\, Colorado\, 80011\, United States
CATEGORIES:Workforce Programs
END:VEVENT
BEGIN:VEVENT
DTSTART;TZID=UTC:20260423T130000
DTEND;TZID=UTC:20260423T140000
DTSTAMP:20260423T020241
CREATED:20260325T212947Z
LAST-MODIFIED:20260325T212947Z
UID:5051-1776949200-1776952800@scccolorado.org
SUMMARY:Enhanced Employment Readiness skills
DESCRIPTION:[vc_row][vc_column][vc_column_text css=”” woodmart_inline=”no” text_larger=”no”] \n\nGet Prepared | Get Confident | Get Hired \nThis interactive workshop will equip you with the tools you need to successfully navigate the hiring process and thrive in your new role! \n\n[/vc_column_text][/vc_column][/vc_row]
URL:https://scccolorado.org/calendar/enhanced-employment-readiness-skills-2/
LOCATION:SCC Potomac\, 224 Potomac St\, Aurora\, Colorado\, 80011\, United States
CATEGORIES:Workforce Programs
END:VEVENT
END:VCALENDAR